BEGIN:VCALENDAR
PRODID:-//Pixl8//Eventfolio//EN
VERSION:2.0
X-WR-TIMEZONE:America/Toronto
CALSCALE:GREGORIAN
METHOD:PUBLISH
CLASS:PUBLIC
BEGIN:VTIMEZONE
TZID:America/Toronto
LAST-MODIFIED:20260306T231828Z
TZURL:https://www.tzurl.org/zoneinfo-outlook/America/Toronto
X-LIC-LOCATION:America/Toronto
BEGIN:DAYLIGHT
TZNAME:EDT
TZOFFSETFROM:-0500
TZOFFSETTO:-0400
DTSTART:19700308T020000
RRULE:FREQ=YEARLY;BYMONTH=3;BYDAY=2SU
END:DAYLIGHT
BEGIN:STANDARD
TZNAME:EST
TZOFFSETFROM:-0400
TZOFFSETTO:-0500
DTSTART:19701101T020000
RRULE:FREQ=YEARLY;BYMONTH=11;BYDAY=1SU
END:STANDARD
END:VTIMEZONE
BEGIN:VEVENT
DTSTART;TZID=America/Toronto:20250204T094500
DTEND;TZID=America/Toronto:20250204T123000
DTSTAMP:20260421T125747Z
UID:{FD176C29-44BE-4CBB-9EDC743B9AAA3B3A}
LOCATION:Swiss Re Offices: 150 King Street West Suite 1000\, M5H 1J9 Toronto\, Canada
SUMMARY:2025 Toronto Regulatory & Compliance Masterclass with Morgan, Lewis & Bockius
DESCRIPTION:Event details: https://www.sbai.org/events/2025-toronto-regulatory-compliance-masterclass-with-morgan-lewis-bockius.html
PRIORITY:1
END:VEVENT
END:VCALENDAR