BEGIN:VCALENDAR
PRODID:-//Pixl8//Eventfolio//EN
VERSION:2.0
X-WR-TIMEZONE:Asia/Hong_Kong
CALSCALE:GREGORIAN
METHOD:PUBLISH
CLASS:PUBLIC
BEGIN:VTIMEZONE
TZID:Asia/Hong_Kong
LAST-MODIFIED:20260306T231828Z
TZURL:https://www.tzurl.org/zoneinfo-outlook/Asia/Hong_Kong
X-LIC-LOCATION:Asia/Hong_Kong
BEGIN:STANDARD
TZNAME:HKT
TZOFFSETFROM:+0800
TZOFFSETTO:+0800
DTSTART:19700101T000000
END:STANDARD
END:VTIMEZONE
BEGIN:VEVENT
DTSTART;TZID=Asia/Hong_Kong:20241007T080000
DTEND;TZID=Asia/Hong_Kong:20241007T100000
DTSTAMP:20260425T180750Z
UID:{3CBBFA5F-9798-4803-8BFF6BEEE1426B55}
LOCATION:Central Hong Kong (Details provided once registration is confirmed)
SUMMARY:2024 Hong Kong Fireside Chat with Priti Singh, CPP Investments
DESCRIPTION:Event details: https://www.sbai.org/events/2024-hong-kong-fireside-chat-with-priti-singh-cpp-investments.html
PRIORITY:1
END:VEVENT
END:VCALENDAR